BEGIN:VCALENDAR
VERSION:2.0
PRODID:-//hacksw/handcal//NONSGML v1.0//EN
BEGIN:VEVENT
SUMMARY:Pique-nique fin de saison
UID:c738ab20-5bee-44c0-8aad-9003b9242dce
DTSTART:20260619T220000Z
DTEND:20260620T220000Z
LOCATION:Localisation   
CATEGORIES:Sportif
STATUS:
URL;VALUE=URI:https://www.aikiryuepernay.fr/evenements/2026/06/20/pique-nique-fin-de-saison-2439589
END:VEVENT
END:VCALENDAR
