BEGIN:VCALENDAR
VERSION:2.0
PRODID:-//hacksw/handcal//NONSGML v1.0//EN
BEGIN:VEVENT
SUMMARY:Passage de grade National a PARIS
UID:f0b0e616-704d-4eeb-b27a-f9f7aa730376
DTSTART:20260626T220000Z
DTEND:20260628T220000Z
LOCATION:Localisation   
CATEGORIES:Sportif
STATUS:
URL;VALUE=URI:https://www.aikiryuepernay.fr/evenements/2026/06/27/passage-de-grade-national-a-paris-2439588
END:VEVENT
END:VCALENDAR
