BEGIN:VCALENDAR
VERSION:2.0
PRODID:-//hacksw/handcal//NONSGML v1.0//EN
BEGIN:VEVENT
SUMMARY:Nettoyage tatami
UID:501aaa7e-6b42-4423-984a-5bc175dfd650
DTSTART:20260628T220000Z
DTEND:20260629T220000Z
LOCATION:Dojo Principal Allee du fort Chabrol 51200 Epernay
CATEGORIES:Sportif
STATUS:
URL;VALUE=URI:https://www.aikiryuepernay.fr/evenements/2026/06/29/nettoyage-tatami-2439585
END:VEVENT
END:VCALENDAR
